BEGIN:VCALENDAR
VERSION:2.0
PRODID:-//hacksw/handcal//NONSGML v1.0//EN
CALSCALE:GREGORIAN
BEGIN:VEVENT
DTSTART:20260429T163000
LOCATION:Karlsruhe
DESCRIPTION:Der de:hub Karlsruhe lädt zum nächsten TECH.minds Event in den Technologiepark Karlsruhe ein. Im Mittelpunkt stehen aktuelle Trends\, spannende Use Cases und neueste Entwicklungen rund um Künstliche Intelligenz. Es erwartet euch ein abwechslungsreiches Programm mit praxisnahen Einblicken in die Anwendung von KI in unterschiedlichen Kontexten sowie die Möglichkeit zum Austausch mit Expert:innen aus der Branche.
Mit dabei ist unser Kollege Simon Dreher mit seinem Talk:
„A Golden Path to Secure Platform Engineering“
Platform Engineering verspricht viel: secure-by-default\, skalierbare Security-Mechanismen und vereinfachte Auditierbarkeit. Doch wie lässt sich das in der Praxis wirklich umsetzen? In seinem Vortrag zeigt Simon anhand konkreter Beispiele aus dem Projektalltag\, wie sich Sicherheitskonzepte mit gängigen cloud-native Tools effektiv umsetzen lassen – und worauf es ankommt\, um eine robuste und zugleich praktikable Plattform zu entwickeln. Dabei geht es nicht um die eine Universallösung\, sondern um wertvolle Learnings und typische Fallstricke auf dem Weg zum eigenen „Golden Path“.
URL;VALUE=URI:https://www.inovex.de/de/news-events/events/tech-mindstpk-ki-plattformen-und-sicherheit-ungeschoent/
SUMMARY:TECH.minds@TPK: KI\, Plattformen und Sicherheit – ungeschönt
DTSTAMP:20260421T115457
UID:69e76591d88b0
END:VEVENT
END:VCALENDAR