BEGIN:VCALENDAR
VERSION:2.0
PRODID:-//hacksw/handcal//NONSGML v1.0//EN
CALSCALE:GREGORIAN
BEGIN:VEVENT
DTSTART:20260424T110000
DTEND:20260424T133000
LOCATION:Online
DESCRIPTION:Unser Kollege Hans-Peter Zorn ist bei dem exklusiven Expert:innen-Austausch zu Generative AI mit seinem Talk „Wie AI Agents kontrollierbar werden könnten“ dabei.
Das genAI Experience Network schafft einen exklusiven Raum für den Austausch unter Expert:innen\, die genau daran arbeiten: von Agentensystemen bis hin zu konkreten Use Cases in Bereichen wie Finance\, Telco\, Energy und Retail.
Hier treffen führende Köpfe aus Technologie und Wissenschaft auf erfahrene Praktiker:innen – mit dem Ziel\, voneinander zu lernen\, Erfahrungen zu teilen und die nächste Generation von KI-Anwendungen aktiv mitzugestalten.
Bitte beachte: die Teilnahme erfolgt ausschließlich auf Einladung!
URL;VALUE=URI:https://www.inovex.de/de/news-events/events/the-genai-experience-network-wie-ai-agents-kontrollierbar-werden-koennten/
SUMMARY:The genAI Experience Network – Wie AI Agents kontrollierbar werden könnten
DTSTAMP:20260421T112255
UID:69e75e0f4a23a
END:VEVENT
END:VCALENDAR